BEGIN:VCALENDAR
VERSION:2.0
PRODID:-//Essex WI - ECPv6.15.17.1//NONSGML v1.0//EN
CALSCALE:GREGORIAN
METHOD:PUBLISH
X-ORIGINAL-URL:https://essexwi.org.uk
X-WR-CALDESC:Events for Essex WI
REFRESH-INTERVAL;VALUE=DURATION:PT1H
X-Robots-Tag:noindex
X-PUBLISHED-TTL:PT1H
BEGIN:VTIMEZONE
TZID:Europe/London
BEGIN:DAYLIGHT
TZOFFSETFROM:+0000
TZOFFSETTO:+0100
TZNAME:BST
DTSTART:20170326T010000
END:DAYLIGHT
BEGIN:STANDARD
TZOFFSETFROM:+0100
TZOFFSETTO:+0000
TZNAME:GMT
DTSTART:20171029T010000
END:STANDARD
BEGIN:DAYLIGHT
TZOFFSETFROM:+0000
TZOFFSETTO:+0100
TZNAME:BST
DTSTART:20180325T010000
END:DAYLIGHT
BEGIN:STANDARD
TZOFFSETFROM:+0100
TZOFFSETTO:+0000
TZNAME:GMT
DTSTART:20181028T010000
END:STANDARD
BEGIN:DAYLIGHT
TZOFFSETFROM:+0000
TZOFFSETTO:+0100
TZNAME:BST
DTSTART:20190331T010000
END:DAYLIGHT
BEGIN:STANDARD
TZOFFSETFROM:+0100
TZOFFSETTO:+0000
TZNAME:GMT
DTSTART:20191027T010000
END:STANDARD
END:VTIMEZONE
BEGIN:VEVENT
DTSTART;TZID=Europe/London:20180316T093000
DTEND;TZID=Europe/London:20180316T153000
DTSTAMP:20260421T135945
CREATED:20180111T134547Z
LAST-MODIFIED:20180308T215024Z
UID:3352-1521192600-1521214200@essexwi.org.uk
SUMMARY:County Annual Meeting
DESCRIPTION:The meeting will be full of interest\, with an inspiring talk from Mandy Hickson\, \nFormer fighter pilot with the RAF.  Mandy draws on her experiences with working in a team of elite fighter jet pilots. The importance of maintaining a calm demeanour under pressure\, as well as leading from the front to achieve the best results from one’s team.  Mandy has overcome great hurdles in her career. These experiences led her to co-found Inspiring Women for Work\, an organization that helps women rebuild the confidence they need to return to work and realise their full potential after a career break. \nThe Afternoon entertainment will be West End Rat Pack!! \nWe will have Country Markets\, a variety of stalls for retail therapy and a bumper raffle    !! Parking will be in the nearby Pay and Display car parks. \nThere will be stands for the purchase of tea and coffee\, and please bring a packed lunch. \n  \nTickets £15.50 – Delegates go free \nTo book a space\, you can do one of the following: \n\nEmail tickets@essexwi.org.uk\nCall 01245 382 233 and pay using card over the phone
URL:https://essexwi.org.uk/event/county-annual-meeting-2/
END:VEVENT
END:VCALENDAR