BEGIN:VCALENDAR
VERSION:2.0
PRODID:-//Essex WI - ECPv6.15.17.1//NONSGML v1.0//EN
CALSCALE:GREGORIAN
METHOD:PUBLISH
X-ORIGINAL-URL:https://essexwi.org.uk
X-WR-CALDESC:Events for Essex WI
REFRESH-INTERVAL;VALUE=DURATION:PT1H
X-Robots-Tag:noindex
X-PUBLISHED-TTL:PT1H
BEGIN:VTIMEZONE
TZID:Europe/London
BEGIN:DAYLIGHT
TZOFFSETFROM:+0000
TZOFFSETTO:+0100
TZNAME:BST
DTSTART:20170326T010000
END:DAYLIGHT
BEGIN:STANDARD
TZOFFSETFROM:+0100
TZOFFSETTO:+0000
TZNAME:GMT
DTSTART:20171029T010000
END:STANDARD
BEGIN:DAYLIGHT
TZOFFSETFROM:+0000
TZOFFSETTO:+0100
TZNAME:BST
DTSTART:20180325T010000
END:DAYLIGHT
BEGIN:STANDARD
TZOFFSETFROM:+0100
TZOFFSETTO:+0000
TZNAME:GMT
DTSTART:20181028T010000
END:STANDARD
BEGIN:DAYLIGHT
TZOFFSETFROM:+0000
TZOFFSETTO:+0100
TZNAME:BST
DTSTART:20190331T010000
END:DAYLIGHT
BEGIN:STANDARD
TZOFFSETFROM:+0100
TZOFFSETTO:+0000
TZNAME:GMT
DTSTART:20191027T010000
END:STANDARD
END:VTIMEZONE
BEGIN:VEVENT
DTSTART;TZID=Europe/London:20180327T100000
DTEND;TZID=Europe/London:20180327T130000
DTSTAMP:20260421T135940
CREATED:20180103T143709Z
LAST-MODIFIED:20180309T173129Z
UID:3335-1522144800-1522155600@essexwi.org.uk
SUMMARY:Resolution Pros and Cons
DESCRIPTION:Pros & Cons Workshop at the FEWI Centre \nCome and meet others in Essex who are also interested in Resolutions and Community issues\, and how we can use the WI as a positive force to bring about change. \nCome and join us on Tuesday 27th March 10am – 1pm to discuss the chosen resolution\, how we can work with it locally if it is adopted\, and also how to engage in the selection process for future resolutions \nTo book a space at this event\, you can do one of the following: \n\nEmail tickets@essexwi.org.uk\nCall 01245 382 233
URL:https://essexwi.org.uk/event/resolution-pros-cons/
END:VEVENT
END:VCALENDAR