BEGIN:VCALENDAR
VERSION:2.0
PRODID:-//Essex WI - ECPv6.15.17.1//NONSGML v1.0//EN
CALSCALE:GREGORIAN
METHOD:PUBLISH
X-WR-CALNAME:Essex WI
X-ORIGINAL-URL:https://essexwi.org.uk
X-WR-CALDESC:Events for Essex WI
REFRESH-INTERVAL;VALUE=DURATION:PT1H
X-Robots-Tag:noindex
X-PUBLISHED-TTL:PT1H
BEGIN:VTIMEZONE
TZID:Europe/London
BEGIN:DAYLIGHT
TZOFFSETFROM:+0000
TZOFFSETTO:+0100
TZNAME:BST
DTSTART:20170326T010000
END:DAYLIGHT
BEGIN:STANDARD
TZOFFSETFROM:+0100
TZOFFSETTO:+0000
TZNAME:GMT
DTSTART:20171029T010000
END:STANDARD
BEGIN:DAYLIGHT
TZOFFSETFROM:+0000
TZOFFSETTO:+0100
TZNAME:BST
DTSTART:20180325T010000
END:DAYLIGHT
BEGIN:STANDARD
TZOFFSETFROM:+0100
TZOFFSETTO:+0000
TZNAME:GMT
DTSTART:20181028T010000
END:STANDARD
BEGIN:DAYLIGHT
TZOFFSETFROM:+0000
TZOFFSETTO:+0100
TZNAME:BST
DTSTART:20190331T010000
END:DAYLIGHT
BEGIN:STANDARD
TZOFFSETFROM:+0100
TZOFFSETTO:+0000
TZNAME:GMT
DTSTART:20191027T010000
END:STANDARD
END:VTIMEZONE
BEGIN:VEVENT
DTSTART;TZID=Europe/London:20180502T100000
DTEND;TZID=Europe/London:20180502T123000
DTSTAMP:20260421T124034
CREATED:20180418T131522Z
LAST-MODIFIED:20180418T131522Z
UID:3968-1525255200-1525264200@essexwi.org.uk
SUMMARY:West Bergholt Walk
DESCRIPTION:Along the footpath to the woods to see the beautiful bluebells. Coffee and tea will be served afterwards.Walk is approx 3 miles.With regret\, no dogs only assistance dogs \nfinish time depends on how fast or slow you walk!!
URL:https://essexwi.org.uk/event/west-bergholt-walk/
END:VEVENT
BEGIN:VEVENT
DTSTART;TZID=Europe/London:20180502T101500
DTEND;TZID=Europe/London:20180502T101500
DTSTAMP:20260421T124034
CREATED:20171128T133600Z
LAST-MODIFIED:20171130T140903Z
UID:3260-1525256100-1525256100@essexwi.org.uk
SUMMARY:West Bergholt
DESCRIPTION:10.15am for a 10.30am start.   \nAlong the footpath to the woods to see the beautiful bluebells. Coffee and tea will be served afterwards.  \nWalk is approx 3 miles.  \nWith regrets no dogs please. 
URL:https://essexwi.org.uk/event/west-bergholt/
END:VEVENT
END:VCALENDAR