BEGIN:VCALENDAR
VERSION:2.0
PRODID:-//Essex WI - ECPv6.15.17.1//NONSGML v1.0//EN
CALSCALE:GREGORIAN
METHOD:PUBLISH
X-WR-CALNAME:Essex WI
X-ORIGINAL-URL:https://essexwi.org.uk
X-WR-CALDESC:Events for Essex WI
REFRESH-INTERVAL;VALUE=DURATION:PT1H
X-Robots-Tag:noindex
X-PUBLISHED-TTL:PT1H
BEGIN:VTIMEZONE
TZID:Europe/London
BEGIN:DAYLIGHT
TZOFFSETFROM:+0000
TZOFFSETTO:+0100
TZNAME:BST
DTSTART:20170326T010000
END:DAYLIGHT
BEGIN:STANDARD
TZOFFSETFROM:+0100
TZOFFSETTO:+0000
TZNAME:GMT
DTSTART:20171029T010000
END:STANDARD
BEGIN:DAYLIGHT
TZOFFSETFROM:+0000
TZOFFSETTO:+0100
TZNAME:BST
DTSTART:20180325T010000
END:DAYLIGHT
BEGIN:STANDARD
TZOFFSETFROM:+0100
TZOFFSETTO:+0000
TZNAME:GMT
DTSTART:20181028T010000
END:STANDARD
BEGIN:DAYLIGHT
TZOFFSETFROM:+0000
TZOFFSETTO:+0100
TZNAME:BST
DTSTART:20190331T010000
END:DAYLIGHT
BEGIN:STANDARD
TZOFFSETFROM:+0100
TZOFFSETTO:+0000
TZNAME:GMT
DTSTART:20191027T010000
END:STANDARD
END:VTIMEZONE
BEGIN:VEVENT
DTSTART;TZID=Europe/London:20180725T100000
DTEND;TZID=Europe/London:20180725T130000
DTSTAMP:20260419T172255
CREATED:20180413T160314Z
LAST-MODIFIED:20180416T114316Z
UID:3948-1532512800-1532523600@essexwi.org.uk
SUMMARY:Public Affairs Workshop
DESCRIPTION:Following on from the NFWI Annual Meeting\, this workshop will look at what our campaigning and Public Affairs focus will be for 2018-19 and how we can plan and implement this. \nSpeaker details TBC post the NFWI AGM meeting in June as it is dependant partly on what is voted for at that meeting. \nFEWI Centre\, Terling \n10am – 1pm\, £5 – email tickets@essexwi.org.uk to book your place \n 
URL:https://essexwi.org.uk/event/public-affairs-workshop/
END:VEVENT
END:VCALENDAR