BEGIN:VCALENDAR
VERSION:2.0
PRODID:-//Essex WI - ECPv6.15.17.1//NONSGML v1.0//EN
CALSCALE:GREGORIAN
METHOD:PUBLISH
X-WR-CALNAME:Essex WI
X-ORIGINAL-URL:https://essexwi.org.uk
X-WR-CALDESC:Events for Essex WI
REFRESH-INTERVAL;VALUE=DURATION:PT1H
X-Robots-Tag:noindex
X-PUBLISHED-TTL:PT1H
BEGIN:VTIMEZONE
TZID:Europe/London
BEGIN:DAYLIGHT
TZOFFSETFROM:+0000
TZOFFSETTO:+0100
TZNAME:BST
DTSTART:20170326T010000
END:DAYLIGHT
BEGIN:STANDARD
TZOFFSETFROM:+0100
TZOFFSETTO:+0000
TZNAME:GMT
DTSTART:20171029T010000
END:STANDARD
BEGIN:DAYLIGHT
TZOFFSETFROM:+0000
TZOFFSETTO:+0100
TZNAME:BST
DTSTART:20180325T010000
END:DAYLIGHT
BEGIN:STANDARD
TZOFFSETFROM:+0100
TZOFFSETTO:+0000
TZNAME:GMT
DTSTART:20181028T010000
END:STANDARD
BEGIN:DAYLIGHT
TZOFFSETFROM:+0000
TZOFFSETTO:+0100
TZNAME:BST
DTSTART:20190331T010000
END:DAYLIGHT
BEGIN:STANDARD
TZOFFSETFROM:+0100
TZOFFSETTO:+0000
TZNAME:GMT
DTSTART:20191027T010000
END:STANDARD
END:VTIMEZONE
BEGIN:VEVENT
DTSTART;TZID=Europe/London:20180806T100000
DTEND;TZID=Europe/London:20180806T160000
DTSTAMP:20260421T124700
CREATED:20171122T132416Z
LAST-MODIFIED:20180510T124812Z
UID:3138-1533549600-1533571200@essexwi.org.uk
SUMMARY:"Exploring Textures with Free Machine Embroidery"
DESCRIPTION:PLEASE NOTE THIS IS THE RE-SCHEDULED DATE FROM THE CANCELLED EVENT ON MAY THE 14TH. IF YOU HAVE ALREADY APPLIED AND BEEN CONTACTED ABOUT THE CANCELLED EVENT THERE IS NO NEED TO APPLY FOR THIS EVENT. \nBack by popular demand Melinda Berkowitz returns to tutor a further workshop. Melinda sais……… \n‘This workshop will explore the numerous possibilities available when combining machine effect and textile media to create robust and exciting surfaces. We will cover a number of free machine effects using a variety of fabric bases and incorporate some of the available surface texturing materials. Techinques covered are suitable for including within a variety of textile related projects’  \nSpecialty requirements will be provided for a small charge on the day. \nThis workshop is suitable for those with some experience of free machine techniques. \nA list of requirements will be sent out with your tickets. \nTea and coffee will be available but please ring remember to bring a packed lunch. \nPLEASE NOTE:This workshop is suitable for those with some experience of free machine techniques. In order to do free machining you must be bale to either lower or cover the feed dog and attach the appropriate sewing foot. WITHOUT THIS YOU WILL NOT BE ABLE TO COMPLETE THE WORKSHOP ACTIVITIES. \nTicket cost for the event is £25.00 \nClosing date is the 9th of July 2018
URL:https://essexwi.org.uk/event/exploring-textures-free-machine-embroidery/
END:VEVENT
END:VCALENDAR