BEGIN:VCALENDAR
VERSION:2.0
PRODID:-//Essex WI - ECPv6.15.17.1//NONSGML v1.0//EN
CALSCALE:GREGORIAN
METHOD:PUBLISH
X-WR-CALNAME:Essex WI
X-ORIGINAL-URL:https://essexwi.org.uk
X-WR-CALDESC:Events for Essex WI
REFRESH-INTERVAL;VALUE=DURATION:PT1H
X-Robots-Tag:noindex
X-PUBLISHED-TTL:PT1H
BEGIN:VTIMEZONE
TZID:Europe/London
BEGIN:DAYLIGHT
TZOFFSETFROM:+0000
TZOFFSETTO:+0100
TZNAME:BST
DTSTART:20160327T010000
END:DAYLIGHT
BEGIN:STANDARD
TZOFFSETFROM:+0100
TZOFFSETTO:+0000
TZNAME:GMT
DTSTART:20161030T010000
END:STANDARD
BEGIN:DAYLIGHT
TZOFFSETFROM:+0000
TZOFFSETTO:+0100
TZNAME:BST
DTSTART:20170326T010000
END:DAYLIGHT
BEGIN:STANDARD
TZOFFSETFROM:+0100
TZOFFSETTO:+0000
TZNAME:GMT
DTSTART:20171029T010000
END:STANDARD
BEGIN:DAYLIGHT
TZOFFSETFROM:+0000
TZOFFSETTO:+0100
TZNAME:BST
DTSTART:20180325T010000
END:DAYLIGHT
BEGIN:STANDARD
TZOFFSETFROM:+0100
TZOFFSETTO:+0000
TZNAME:GMT
DTSTART:20181028T010000
END:STANDARD
BEGIN:DAYLIGHT
TZOFFSETFROM:+0000
TZOFFSETTO:+0100
TZNAME:BST
DTSTART:20190331T010000
END:DAYLIGHT
BEGIN:STANDARD
TZOFFSETFROM:+0100
TZOFFSETTO:+0000
TZNAME:GMT
DTSTART:20191027T010000
END:STANDARD
END:VTIMEZONE
BEGIN:VEVENT
DTSTART;TZID=Europe/London:20180126T100000
DTEND;TZID=Europe/London:20180126T150000
DTSTAMP:20260421T170138
CREATED:20171213T132006Z
LAST-MODIFIED:20171213T132006Z
UID:3322-1516960800-1516978800@essexwi.org.uk
SUMMARY:Craft Open door Day
DESCRIPTION:Bring along your crafts\, work on them with like minded folk and have a natter at the same time! \n  \n£3.00\, no need to book\, just turn up!
URL:https://essexwi.org.uk/event/craft-open-door-day-18/
END:VEVENT
BEGIN:VEVENT
DTSTART;TZID=Europe/London:20171215T103000
DTEND;TZID=Europe/London:20171215T150000
DTSTAMP:20260421T170138
CREATED:20170420T131303Z
LAST-MODIFIED:20170420T131303Z
UID:1667-1513333800-1513350000@essexwi.org.uk
SUMMARY:Craft open Door Day
DESCRIPTION:£3.00 charge for tea and coffee and a natter whilst working on your own crafts! \n\n \n\n\nDont forget your lunch!
URL:https://essexwi.org.uk/event/craft-open-door-day-17/
END:VEVENT
BEGIN:VEVENT
DTSTART;VALUE=DATE:20171205
DTEND;VALUE=DATE:20171206
DTSTAMP:20260421T170138
CREATED:20160921T130200Z
LAST-MODIFIED:20170807T141434Z
UID:1274-1512432000-1512518399@essexwi.org.uk
SUMMARY:Christmas Carol Service
DESCRIPTION:  \n 
URL:https://essexwi.org.uk/event/christmas-carol-service/
END:VEVENT
BEGIN:VEVENT
DTSTART;TZID=Europe/London:20171130T100000
DTEND;TZID=Europe/London:20171130T100000
DTSTAMP:20260421T170138
CREATED:20160921T130045Z
LAST-MODIFIED:20170731T105900Z
UID:1272-1512036000-1512036000@essexwi.org.uk
SUMMARY:Christmas Door Wreath
DESCRIPTION:Come along and get in the “festive spirit”. \nLesley Grove will be guiding you through he techniques to achieve a beautiful Christmas Wreath. \nThe workshop is suitable for beginners and you will go home with a completed decoration ready to adorn your front door\, all materials will be provided. \nClosing date 31st October 2017. \n  \n£32.00 each
URL:https://essexwi.org.uk/event/christmas-door-wreathring-2/
END:VEVENT
BEGIN:VEVENT
DTSTART;TZID=Europe/London:20171125T190000
DTEND;TZID=Europe/London:20171125T190000
DTSTAMP:20260421T170138
CREATED:20170504T113539Z
LAST-MODIFIED:20170804T074310Z
UID:1672-1511636400-1511636400@essexwi.org.uk
SUMMARY:Centenary Ball
DESCRIPTION:  \n  \n  \n  \n  \n  \n  \n  \n  \n  \n  \n  \n  \n  \n  \n  \n  \n  \n  \nChelmsford City Racecourse  \n£48.00 per person\, 3 course meal\, live band and photograph booth (£10.00 per head)
URL:https://essexwi.org.uk/event/centenary-ball/
END:VEVENT
BEGIN:VEVENT
DTSTART;TZID=Europe/London:20171122T080000
DTEND;TZID=Europe/London:20171122T170000
DTSTAMP:20260421T170138
CREATED:20171122T141622Z
LAST-MODIFIED:20171122T141622Z
UID:3151-1511337600-1511370000@essexwi.org.uk
SUMMARY:Coffee\, Cakes and Home Security
DESCRIPTION:On this day we will over coffee and cakes be meeting up with Essex Police and Essex Fire Service to update everyone on Home Security. \n\n \n\n\nLisa from the Fire Service will talk to us about reducing the risks of fire in our homes and Chris from Essex Police will be helping us with home security\, online security and being safe when out and about.\n\n\n \n\n\nWe all need to feel safe in our homes and out and about so come along and get the best up to date information.\n\n\n \n\n\nCLOSING DATE 27 February 2018\n\n\n \n\n\nTicket Price £5.00
URL:https://essexwi.org.uk/event/coffee-cakes-home-security/
END:VEVENT
BEGIN:VEVENT
DTSTART;TZID=Europe/London:20171118T100000
DTEND;TZID=Europe/London:20171118T150000
DTSTAMP:20260421T170138
CREATED:20170914T133848Z
LAST-MODIFIED:20170914T133848Z
UID:1762-1510999200-1511017200@essexwi.org.uk
SUMMARY:Basic Curtain Making
DESCRIPTION:Students will make sample lined and tape headed curtains in a fabric of their choice (1 metre). A sewing machine will be used along with some hand sewing. The day will cover estimating fabric requirements\, metres corner\, attaching a lining and getting a professional finish. Weights\, lining and heading tape will be provided. \nA full list of requirements will be sent out with your ticket. \nTickets are £22.00 each and can be ordered via Essex News or ringing the WI Office on 01245 382233.
URL:https://essexwi.org.uk/event/basic-curtain-making/
END:VEVENT
BEGIN:VEVENT
DTSTART;TZID=Europe/London:20171118T100000
DTEND;TZID=Europe/London:20171118T140000
DTSTAMP:20260421T170138
CREATED:20170731T105333Z
LAST-MODIFIED:20170731T105333Z
UID:1744-1510999200-1511013600@essexwi.org.uk
SUMMARY:Elsenham Resolution Road Show
DESCRIPTION:As we all know the WI is renowned for taking on tricky issues and using our ‘voices and choices’ to make a difference! \nMuch of this reputation stems from the WI’s resolutions process and innovative campaigns that evolve from it. \nHave your voice heard and make a real impact on local\, national and global issues by getting involved. \nCome and join the team on  \n14 November 2017 from 7.30-9.30pm and 18 November 10am-2pm \nFor the Resolutions Workshop \nAt Elsenham Bowls Club\, Leigh Drive\, Elsenham\, Bishops Stortford\, CM22 6BY. \nThere will be an introduction to the Resolutions short list for 2018. How to discuss and debate Resolutions within your WIs. Initiatives that will help promote the Resolutions process. Advice on submitting \nresolutions\, how\, what and when. \n“Your voice\, Your Choice!!!” \nThis is not a ticketed event and there is no charge. \n 
URL:https://essexwi.org.uk/event/elsenham-resolution-road-show-2/
END:VEVENT
BEGIN:VEVENT
DTSTART;TZID=Europe/London:20171117T103000
DTEND;TZID=Europe/London:20171117T150000
DTSTAMP:20260421T170138
CREATED:20170420T131221Z
LAST-MODIFIED:20170420T131221Z
UID:1665-1510914600-1510930800@essexwi.org.uk
SUMMARY:Craft open Door Day
DESCRIPTION:£3.00 charge for tea and coffee and a natter whilst working on your own crafts! \n\n \n\n\nDont forget your lunch!
URL:https://essexwi.org.uk/event/craft-open-door-day-16/
END:VEVENT
BEGIN:VEVENT
DTSTART;TZID=Europe/London:20171113T100000
DTEND;TZID=Europe/London:20171113T153000
DTSTAMP:20260421T170138
CREATED:20170420T123453Z
LAST-MODIFIED:20171017T122422Z
UID:1652-1510567200-1510587000@essexwi.org.uk
SUMMARY:Textile Christmas Decoration - FULL
DESCRIPTION:We are delighted to welcome Pat Lumsdale to Essex. Pat is a very popular tutor at Denman\, working with textiles for over 35 years.  Her first love is “playing with fabrics”. \nCome and join us “playing with fabrics”  \nMonday 13 November at the WI Centre\, Hatfield Peverel. 10.00am – 3.30pm.  Materials will be provided to complete at least 2 ornaments on the day. (more will be available to purchase) Why not ask someone from your craft group to come along and then cascade to others? It’s all about sharing. \nTicket cost £26.00 \nPlease bring a packed lunch\, tea and coffee available. \nClosing date October 2 2017                                                                                                                                                                                                                                                                                                                                                                                                                                                                                                                                                                                      \n 
URL:https://essexwi.org.uk/event/textile-christmas-decoration-2/
END:VEVENT
BEGIN:VEVENT
DTSTART;TZID=Europe/London:20171110T100000
DTEND;TZID=Europe/London:20171110T130000
DTSTAMP:20260421T170138
CREATED:20170731T105042Z
LAST-MODIFIED:20170731T105122Z
UID:1739-1510308000-1510318800@essexwi.org.uk
SUMMARY:Resolutions Workshop
DESCRIPTION:As we all know the WI is renowned for taking on tricky issues and using our ‘voices and choices’ to make a difference! \nMuch of this reputation stems from the WI’s resolutions process and innovative campaigns that evolve from it. \nHave your voice heard and make a real impact on local\, national and global issues by getting involved. \nCome and join the team on  \n10 November 2017 from 10am—1pm  \nFor the Resolutions Workshop \nAt The WI Centre\, Whitelands\, Terling Road\, Hatfield Peverel\, CM3 2AG. \nThere will be an introduction to the Resolutions short list for 2018. How to discuss and debate Resolutions within your WIs. Initiatives that will help promote the              Resolutions process. Advice on submitting \nresolutions\, how\, what and when. \n“Your voice\, Your Choice!!!” \nThis is not a ticketed event and there is no charge. \n 
URL:https://essexwi.org.uk/event/resolutions-workshop-2/
END:VEVENT
BEGIN:VEVENT
DTSTART;TZID=Europe/London:20171028T100000
DTEND;TZID=Europe/London:20171028T153000
DTSTAMP:20260421T170138
CREATED:20170420T123330Z
LAST-MODIFIED:20171017T121843Z
UID:1650-1509184800-1509204600@essexwi.org.uk
SUMMARY:Textile Christmas Decoration - FULL
DESCRIPTION:We are delighted to welcome Pat Lumsdale to Essex. Pat is a very popular tutor at Denman\, working with textiles for over 35 years.  Her first love is “playing with fabrics”. \nCome and join us “playing with fabrics” \nSaturday 28 October  at the WI Centre\, Hatfield Peverel. 10.00am – 3.30pm.  Materials will be provided to complete at least 2 ornaments on the day. (more will be available to purchase) Why not ask someone from your craft group to come along and then      cascade to others? It’s all about sharing. \nTicket cost £26.00 \nPlease bring a packed lunch\, tea and coffee available. \nClosing date October 2 \n2017                                                                                                                                                                                                                                                                                                                                                                                                                                                                                                                                                                                      \n 
URL:https://essexwi.org.uk/event/textile-christmas-decoration/
END:VEVENT
BEGIN:VEVENT
DTSTART;TZID=Europe/London:20171020T120000
DTEND;TZID=Europe/London:20171020T160000
DTSTAMP:20260421T170138
CREATED:20170420T121857Z
LAST-MODIFIED:20170420T121857Z
UID:1638-1508500800-1508515200@essexwi.org.uk
SUMMARY:Autumnal Lunch at Colne Valley Golf Club
DESCRIPTION:Come and enjoy a delcious autumnal lunch with good friends in the delightful surroundings of Earls Colne Golf Club! \n\n£30.50 per head\, members only\n\n\n \n\n\nClosing date 22/09/2017
URL:https://essexwi.org.uk/event/autumnal-lunch-colne-valley-golf-club/
END:VEVENT
BEGIN:VEVENT
DTSTART;TZID=Europe/London:20171017T100000
DTEND;TZID=Europe/London:20171017T153000
DTSTAMP:20260421T170138
CREATED:20170420T121656Z
LAST-MODIFIED:20170420T121656Z
UID:1636-1508234400-1508254200@essexwi.org.uk
SUMMARY:Make a Faux Chenille Bag
DESCRIPTION:Come along and create a beautiful faux chenille bag. Pieces of different colored material are layered and machined together and the technique produces a wonderful textured finish and a very stylish bag. Our tutor will be Anne Bullman. Chenille is the French word for caterpillar which the technique is said to resemble. \nYou will need to bring a sewing machine and your own choice of cotton fabric. A rotary cutter is also essential (a full list of requirement wills be sent out with your ticket). \nTea and coffee will be provided but please bring a lunch with you. \nClosing date 12 September \nTicket price £16.50
URL:https://essexwi.org.uk/event/make-faux-chenille-bag/
END:VEVENT
BEGIN:VEVENT
DTSTART;TZID=Europe/London:20171013T093000
DTEND;TZID=Europe/London:20171013T153000
DTSTAMP:20260421T170138
CREATED:20170523T124158Z
LAST-MODIFIED:20171012T133718Z
UID:1680-1507887000-1507908600@essexwi.org.uk
SUMMARY:Centenary Autumn County Annual Meeting
DESCRIPTION:The Civic Hall\, Blackshots Lane\, Grays\, Essex RM16 2JU \nFriday 13 October 2017 \nDoors open 9.30am for 10.30am – 15:30pm \nWe can now confirm that our guests for the Autumn County Meeting  will be the “West End Jerseys” and Steve Scruton. \nSTEVE SCRUTON:Steve’s involvement in radio began in the mid 1970’s with Hospital Radio Chelmsford where he volunteered for over 15 years. During that time he became chairman for 10 years\, was elected president\, and continues to be an honorary member. \n\nAfter working in studio production with local commercial radio\, Steve was invited to join BBC Essex in 1988. He produced and presented the weekday afternoon show for 22 years along with production and presentation of weekend programmes. During that time he was a leading producer and presenter of the station’s outside broadcasts. \nSteve worked to forge links between BBC Essex and outside organisations bringing the BBC closer to many local communities. He has presented countless stage shows and concerts both outdoors and within theatre\, and has hosted numerous events for local groups. \nWEST END JERSEYS:This Jersey Boys Tribute Band is fast becoming one of the most-renowned acts of its kind in the UK. \nIn the last three years\, The Jersey Boys Tribute Band has become the most sought after act within the corporate market. It was only a matter of time before Magnetic Theatre Limited\, with their access to some of the West End’s finest voices\, launched WEST END JERSEYS. \nWEST END JERSEYS secured their first booking on 4th December 2015\, and since then it has been absolutely non-stop. With the band booked up on nearly every Saturday for the rest of 2016\, and already busy in 2017\, you have to book fast to secure this incredible Jersey Boys Tribute Band. \nWEST END JERSEYS features stars of the West End\, performing the incredible music of Frankie Valli and The Four Seasons. From SHERRY\, their first No. 1 single\, to chart-topping hits like OH WHAT A NIGHT\, WALK LIKE A MAN\, and BIG GIRLS DON’T CRY\, the WEST END JERSEYS take you through one of the most recognisable back catalogues in music today. \nTickets (£15.00 per visitor – delegate can go for free) can be obtained using the order form in the back of your Essex News\, or if you would like to call and order your tickets please call 01245 382233 or email us on admin@essexwi.org.uk. \n\n  \nThere will be a cafeteria area available to purchase tea and coffee and as always it would be advisable to bring a packed lunch. \n  \nYou will have the opportunity to undertake some retail therapy from the WI Shop with its “Centenary Items” as well as our old favourites Country Markets who will also be attending. \n  \nThis meeting is open to one delegate (free of charge) from each Institute and visitors at £15.00 \neach. There is ample free parking. \n  \nPlease complete the form in Essex News or the flyer that your Secretary should have and return to the WI Centre by Thursday 10 August 2017. \n 
URL:https://essexwi.org.uk/event/centenary-autumn-county-annual-meeting/
END:VEVENT
BEGIN:VEVENT
DTSTART;TZID=Europe/London:20171006T103000
DTEND;TZID=Europe/London:20171006T153000
DTSTAMP:20260421T170138
CREATED:20170712T142016Z
LAST-MODIFIED:20170928T131035Z
UID:1716-1507285800-1507303800@essexwi.org.uk
SUMMARY:Threads of Essex
DESCRIPTION:The Cookery and Crafts Committee has a lovely event planned with three very talented people. \n  \nDue to unforeseen circumstances\, the programme maybe altered on the day and please note the new venue address. Parking costs are incurred by the individual. \nThere will be the opportunities to purchase raffle tickets for the two raffles. \nThe cost of this day will be £20.00. we anticipate that it will be very popular so book your tickets soon. \nDirections for finding the venue and local car parks will be sent with your ticket. please note that parking costs are the responsibility of the attendees. \nBraintree and Bocking Community Association\, Hollywood\, 1-21 Bocking End\, Braintree CM7 9TH. Friday 6 October 10.30am to 3.15pm. Doors open at 9.45am \nClosing date 4th September 2017. \n  \n 
URL:https://essexwi.org.uk/event/threads-of-essex/
END:VEVENT
BEGIN:VEVENT
DTSTART;VALUE=DATE:20170922
DTEND;VALUE=DATE:20170925
DTSTAMP:20260421T170138
CREATED:20160921T125759Z
LAST-MODIFIED:20160921T125759Z
UID:1266-1506038400-1506297599@essexwi.org.uk
SUMMARY:Denman Weekend
DESCRIPTION:Denman College Oxford \n  \ndetails to follow
URL:https://essexwi.org.uk/event/denman-weekend/
END:VEVENT
BEGIN:VEVENT
DTSTART;TZID=Europe/London:20170919T103000
DTEND;TZID=Europe/London:20170919T150000
DTSTAMP:20260421T170138
CREATED:20170420T122306Z
LAST-MODIFIED:20170420T122306Z
UID:1646-1505817000-1505833200@essexwi.org.uk
SUMMARY:Hatfield Forest Walk
DESCRIPTION:A walk around this medieval hunting forest with its rich history. \n\n \n\n\n \n\n\nClosing date 23/8/17
URL:https://essexwi.org.uk/event/hatfield-forest-walk/
END:VEVENT
BEGIN:VEVENT
DTSTART;TZID=Europe/London:20170915T100000
DTEND;TZID=Europe/London:20170915T153000
DTSTAMP:20260421T170138
CREATED:20170711T113221Z
LAST-MODIFIED:20170711T113221Z
UID:1713-1505469600-1505489400@essexwi.org.uk
SUMMARY:New Speakers Day
DESCRIPTION:We look forward to seeing you at the New Speakers Day at the WI Centre\, Whitelands\, Terling Road\, Hatfield Peverel\, CM3 2AG which we have arranged for Friday 15 September 2017. There will be five or six different speakers who will give a shortened version of their usual presentations. As always there will be an opportunity to ask questions and to complete a short questionnaire giving your thoughts about the speakers’ suitability for WI meetings. \n  \nDo come along on Friday 15 September from 10.00am for coffee with a 10.30am start to 3.30pm at the WI Centre. Tickets cost £7.00 each\, (including tea and coffee on arrival and during lunch only) are available from the WI Centre.  Please bring a packed lunch. \n  \nPlease note: \n\nThese days are arranged to help Institutes find new speakers for their meetings. It is\, therefore\, expected that Institutes will pay the cost of the ticket for one member to attend.\nHowever\, due to the increased demand for New Speaker Day tickets\, if a ballot has to be held\, ticket numbers will be restricted to TWO per WI\, with priority given to those previously unlucky in the ballot.
URL:https://essexwi.org.uk/event/new-speakers-day-3/
END:VEVENT
BEGIN:VEVENT
DTSTART;TZID=Europe/London:20170914T100000
DTEND;TZID=Europe/London:20170914T160000
DTSTAMP:20260421T170138
CREATED:20170718T115100Z
LAST-MODIFIED:20170725T133712Z
UID:1721-1505383200-1505404800@essexwi.org.uk
SUMMARY:Talking for the Terrified
DESCRIPTION:Have you ever been asked to thank the speaker?  You agree but you are quaking in your shoes and the right words don’t seem to come out???? \nHave you been nominated as WI president and would love to accept the honour but feel you cannot stand up and address the whole WI? \nHave you longed to take part in a debate – had valid points to add to the \narguments but just have not had the confidence to speak to \nthe whole room? \n  \nThis is the Day for you! \n  \nThe day will be led by three members who felt exactly as you do only three years ago! These members went on to achieve a Distinction in the English Speaking Board exam\, they might still have butterflies when standing up in front of other members but they have learnt how to control their nerves and what to say! \n  \nThis will be a fun day with plenty of laughter but you will go away having the confidence to stand up and speak in front of your fellow members.  You might even want to progress to the next stage! \n  \nWe will provide the tea\, the coffee\, the biscuits and the fun but please wear comfortable clothes\, bring a packed lunch and your sense of humour! This event is free of charge. \nClosing date is 17 August 2017 \n 
URL:https://essexwi.org.uk/event/talking-for-the-terrified/
END:VEVENT
BEGIN:VEVENT
DTSTART;TZID=Europe/London:20170908T103000
DTEND;TZID=Europe/London:20170908T150000
DTSTAMP:20260421T170138
CREATED:20170420T131131Z
LAST-MODIFIED:20170420T131131Z
UID:1663-1504866600-1504882800@essexwi.org.uk
SUMMARY:Craft Open door Day
DESCRIPTION:£3.00 charge for tea and coffee and a natter whilst working on your own crafts! \n\n \n\n\nDont forget your lunch!
URL:https://essexwi.org.uk/event/craft-open-door-day-15/
END:VEVENT
BEGIN:VEVENT
DTSTART;TZID=Europe/London:20170907T100000
DTEND;TZID=Europe/London:20170907T150000
DTSTAMP:20260421T170138
CREATED:20170503T130602Z
LAST-MODIFIED:20170704T121825Z
UID:1670-1504778400-1504796400@essexwi.org.uk
SUMMARY:Gingham Lace
DESCRIPTION:7 September 2017  10.00-3.00pm \nWI CENTRE \n£22.00 per person \nClosing date 10 August 2017. \n 
URL:https://essexwi.org.uk/event/gingham-lace/
END:VEVENT
BEGIN:VEVENT
DTSTART;TZID=Europe/London:20170825T103000
DTEND;TZID=Europe/London:20170825T150000
DTSTAMP:20260421T170138
CREATED:20170420T131053Z
LAST-MODIFIED:20170420T131053Z
UID:1661-1503657000-1503673200@essexwi.org.uk
SUMMARY:Craft open Door Day
DESCRIPTION:£3.00 charge for tea and coffee and a natter whilst working on your own crafts! \n\n \n\n\nDont forget your lunch!
URL:https://essexwi.org.uk/event/craft-open-door-day-14/
END:VEVENT
BEGIN:VEVENT
DTSTART;TZID=Europe/London:20170816T103000
DTEND;TZID=Europe/London:20170816T150000
DTSTAMP:20260421T170138
CREATED:20170420T122216Z
LAST-MODIFIED:20170420T122216Z
UID:1644-1502879400-1502895600@essexwi.org.uk
SUMMARY:Halstead Walk
DESCRIPTION:A walk around the lovely town of Halstead\, with its lovely river walk and hidden charms. \n \n \n\nClosing date 19/7/2017
URL:https://essexwi.org.uk/event/halstead-walk/
END:VEVENT
BEGIN:VEVENT
DTSTART;VALUE=DATE:20170727
DTEND;VALUE=DATE:20170728
DTSTAMP:20260421T170138
CREATED:20160921T125615Z
LAST-MODIFIED:20170411T122832Z
UID:1262-1501113600-1501199999@essexwi.org.uk
SUMMARY:WWI Aerodrome Visit
DESCRIPTION:We will meet outside the Mess Hall from 1.45pm for a 2pm start. There will be a film and a tour around this unique WW1 site which has the largest known surviving group of Royal Flying Corps Buildings. The aerodrome houses a museum\, reproduction World War 1 aircraft and shop. \nAfternoon Tea will be served at approx 3.30pm. \nTerry Saunders \,singer and cabaret artist will be in attendance. \nThe event is open to non-members and and fancy dress of the period will be welcome BUT IS OPTIONAL. \nTickets £20.00Closing date 26th June 2017
URL:https://essexwi.org.uk/event/wwi-aerodrome-visit/
END:VEVENT
BEGIN:VEVENT
DTSTART;TZID=Europe/London:20170714T103000
DTEND;TZID=Europe/London:20170714T150000
DTSTAMP:20260421T170138
CREATED:20170420T131018Z
LAST-MODIFIED:20170420T131018Z
UID:1659-1500028200-1500044400@essexwi.org.uk
SUMMARY:Craft open Door Day
DESCRIPTION:£3.00 charge for tea and coffee and a natter whilst working on your own crafts! \n\n \n\n\nDont forget your lunch!
URL:https://essexwi.org.uk/event/craft-open-door-day-13/
END:VEVENT
BEGIN:VEVENT
DTSTART;TZID=Europe/London:20170712T103000
DTEND;TZID=Europe/London:20170712T150000
DTSTAMP:20260421T170138
CREATED:20170420T122115Z
LAST-MODIFIED:20170420T122115Z
UID:1642-1499855400-1499871600@essexwi.org.uk
SUMMARY:Wrabness Walk
DESCRIPTION:A walk through the wood down to the river\, past the amazing Grayson Perry’s dream house. Cake and tea served by Wrabness WI. \n\n \n\n\nClosing date 14/6/2017
URL:https://essexwi.org.uk/event/wrabness-walk/
END:VEVENT
BEGIN:VEVENT
DTSTART;VALUE=DATE:20170707
DTEND;VALUE=DATE:20170709
DTSTAMP:20260421T170138
CREATED:20160921T125342Z
LAST-MODIFIED:20170627T110917Z
UID:1260-1499385600-1499558399@essexwi.org.uk
SUMMARY:Federation Show - Diverse Essex
DESCRIPTION:Come along to the WI Centre for the Federation Show in this our Centenary Year\, where all manner of crafts\, food\, flowers and scarecrows will be on show! Plenty of things to see and do. A wonderful day out for the whole family! \n£5.00 in advance £6.50 on the gate. \n10-5pm Friday and 10-4pm Saturday \n 
URL:https://essexwi.org.uk/event/federation-show-diverse-essex/
END:VEVENT
BEGIN:VEVENT
DTSTART;VALUE=DATE:20170617
DTEND;VALUE=DATE:20170618
DTSTAMP:20260421T170138
CREATED:20160921T124925Z
LAST-MODIFIED:20170411T123117Z
UID:1258-1497657600-1497743999@essexwi.org.uk
SUMMARY:Patchwork Owl
DESCRIPTION:Did you know that a group of owls are called a “Parliament”? \nCome along to the WI Centre onSaturday 17th June 2017 with Debbie Gair\, our tutor and makethese delightful Patchwork Owl Doorstops.Ticket price is £30.00 kit included.Please bring a packed lunch\, Tea and Coffee is available. \nMembers only \nClosing date 20/5/2017
URL:https://essexwi.org.uk/event/patchwork-owl/
END:VEVENT
BEGIN:VEVENT
DTSTART;TZID=Europe/London:20170614T100000
DTEND;TZID=Europe/London:20170614T150000
DTSTAMP:20260421T170138
CREATED:20170420T121956Z
LAST-MODIFIED:20170420T122029Z
UID:1640-1497434400-1497452400@essexwi.org.uk
SUMMARY:Southend Walk
DESCRIPTION:Invigorating walk down the longest pier in the world. I’ve arranged for a stop at the end for drinks and snacks. \n\n \n\n\nTimes to be confirmed\n\n\nClosing date 17/5/17
URL:https://essexwi.org.uk/event/southend-walk/
END:VEVENT
END:VCALENDAR