BEGIN:VCALENDAR
VERSION:2.0
PRODID:-//Essex WI - ECPv6.15.20//NONSGML v1.0//EN
CALSCALE:GREGORIAN
METHOD:PUBLISH
X-WR-CALNAME:Essex WI
X-ORIGINAL-URL:https://essexwi.org.uk
X-WR-CALDESC:Events for Essex WI
REFRESH-INTERVAL;VALUE=DURATION:PT1H
X-Robots-Tag:noindex
X-PUBLISHED-TTL:PT1H
BEGIN:VTIMEZONE
TZID:Europe/London
BEGIN:DAYLIGHT
TZOFFSETFROM:+0000
TZOFFSETTO:+0100
TZNAME:BST
DTSTART:20140330T010000
END:DAYLIGHT
BEGIN:STANDARD
TZOFFSETFROM:+0100
TZOFFSETTO:+0000
TZNAME:GMT
DTSTART:20141026T010000
END:STANDARD
BEGIN:DAYLIGHT
TZOFFSETFROM:+0000
TZOFFSETTO:+0100
TZNAME:BST
DTSTART:20150329T010000
END:DAYLIGHT
BEGIN:STANDARD
TZOFFSETFROM:+0100
TZOFFSETTO:+0000
TZNAME:GMT
DTSTART:20151025T010000
END:STANDARD
BEGIN:DAYLIGHT
TZOFFSETFROM:+0000
TZOFFSETTO:+0100
TZNAME:BST
DTSTART:20160327T010000
END:DAYLIGHT
BEGIN:STANDARD
TZOFFSETFROM:+0100
TZOFFSETTO:+0000
TZNAME:GMT
DTSTART:20161030T010000
END:STANDARD
END:VTIMEZONE
BEGIN:VEVENT
DTSTART;TZID=Europe/London:20151204T103000
DTEND;TZID=Europe/London:20151204T150000
DTSTAMP:20260425T155706
CREATED:20151123T112009Z
LAST-MODIFIED:20151123T112009Z
UID:341-1449225000-1449241200@essexwi.org.uk
SUMMARY:Craft Open Door Day
DESCRIPTION:Bring your own projects (sewing\, knitting etc) and enjoy a day of happy chatter whilst you work away doing your own thing. \nIt is hoped that this will become a regular monthly get-together. There is no obligation to attend every month. \nA nominal charge of £3.00 per attendee\, which will cover tea and coffee—bring your own packed lunch. \n  \n2016 DATES TO BE ADVISED. \nNO TICKETS NEEDED — COME ALONG AS AND WHEN YOU WANT TO! \nThe WI shop will be open!!! \n 
URL:https://essexwi.org.uk/event/presidents-secretaries-training-day/
LOCATION:Essex
END:VEVENT
BEGIN:VEVENT
DTSTART;TZID=Europe/London:20151202T193000
DTEND;TZID=Europe/London:20151202T210000
DTSTAMP:20260425T155706
CREATED:20151123T105852Z
LAST-MODIFIED:20151123T110109Z
UID:338-1449084600-1449090000@essexwi.org.uk
SUMMARY:A Celebration of Christmas
DESCRIPTION:A Service of Carols and Cathedrals \nWednesday 2nd of December 7.30pm. Ticket/Programmes £5.00 each available from the WI Centre or on the door.
URL:https://essexwi.org.uk/event/a-celebration-of-christmas-3/
LOCATION:Essex
END:VEVENT
BEGIN:VEVENT
DTSTART;TZID=Europe/London:20151202T143000
DTEND;TZID=Europe/London:20151202T160000
DTSTAMP:20260425T155706
CREATED:20151123T105256Z
LAST-MODIFIED:20151123T105256Z
UID:336-1449066600-1449072000@essexwi.org.uk
SUMMARY:A Celebration of Christmas
DESCRIPTION:A Service of Carols and Cathedrals \n  \nWednesday 2nd of December 2.30pm. Ticket/Programmes £5.00 each available from the WI Centre or on the door.
URL:https://essexwi.org.uk/event/a-celebration-of-christmas-2/
LOCATION:Essex
END:VEVENT
BEGIN:VEVENT
DTSTART;TZID=Europe/London:20151125T110000
DTEND;TZID=Europe/London:20151125T150000
DTSTAMP:20260425T155706
CREATED:20151123T111632Z
LAST-MODIFIED:20151123T111632Z
UID:340-1448449200-1448463600@essexwi.org.uk
SUMMARY:Veggie Delights
DESCRIPTION:SOLD OUT
URL:https://essexwi.org.uk/event/veggie-delights/
LOCATION:Essex
END:VEVENT
BEGIN:VEVENT
DTSTART;TZID=Europe/London:20151124T100000
DTEND;TZID=Europe/London:20151124T130000
DTSTAMP:20260425T155706
CREATED:20151123T110536Z
LAST-MODIFIED:20151123T110536Z
UID:339-1448359200-1448370000@essexwi.org.uk
SUMMARY:Resolutions Workshop
DESCRIPTION:SOLD OUT
URL:https://essexwi.org.uk/event/resolutions-workshop/
LOCATION:Essex
END:VEVENT
BEGIN:VEVENT
DTSTART;TZID=Europe/London:20151001T100000
DTEND;TZID=Europe/London:20151001T170000
DTSTAMP:20260425T155706
CREATED:20151103T171511Z
LAST-MODIFIED:20151103T171810Z
UID:247-1443693600-1443718800@essexwi.org.uk
SUMMARY:Golf Fun Day
DESCRIPTION:DO YOU PLAY GOLF? \nDO YOU HAVE A GOLF HANDICAP? \nIf so\, St Osyth WI have offered to arrange a \nFUN GOLF DAY \nfor Essex Federation. \nThe date provisionally booked at Clacton-on-Sea Golf Club is1st OCTOBER 2015 \nThe day would include coffee and a Danish pastry on arrival\, and a sandwich and chip lunch at the end of the round of golf. There will also be refreshments half way through. \nWe do need to know how many would be interested in taking part\, and ask if you could please complete the form which is with WI secretaries and return by 31st January 2015. \nTickets will be in the region of £35 which includes feesand refreshments.
URL:https://essexwi.org.uk/event/golf-fun-day/
LOCATION:Essex
END:VEVENT
END:VCALENDAR