BEGIN:VCALENDAR
VERSION:2.0
PRODID:-//Essex WI - ECPv6.15.17.1//NONSGML v1.0//EN
CALSCALE:GREGORIAN
METHOD:PUBLISH
X-ORIGINAL-URL:https://essexwi.org.uk
X-WR-CALDESC:Events for Essex WI
REFRESH-INTERVAL;VALUE=DURATION:PT1H
X-Robots-Tag:noindex
X-PUBLISHED-TTL:PT1H
BEGIN:VTIMEZONE
TZID:Europe/London
BEGIN:DAYLIGHT
TZOFFSETFROM:+0000
TZOFFSETTO:+0100
TZNAME:BST
DTSTART:20170326T010000
END:DAYLIGHT
BEGIN:STANDARD
TZOFFSETFROM:+0100
TZOFFSETTO:+0000
TZNAME:GMT
DTSTART:20171029T010000
END:STANDARD
BEGIN:DAYLIGHT
TZOFFSETFROM:+0000
TZOFFSETTO:+0100
TZNAME:BST
DTSTART:20180325T010000
END:DAYLIGHT
BEGIN:STANDARD
TZOFFSETFROM:+0100
TZOFFSETTO:+0000
TZNAME:GMT
DTSTART:20181028T010000
END:STANDARD
BEGIN:DAYLIGHT
TZOFFSETFROM:+0000
TZOFFSETTO:+0100
TZNAME:BST
DTSTART:20190331T010000
END:DAYLIGHT
BEGIN:STANDARD
TZOFFSETFROM:+0100
TZOFFSETTO:+0000
TZNAME:GMT
DTSTART:20191027T010000
END:STANDARD
END:VTIMEZONE
BEGIN:VEVENT
DTSTART;TZID=Europe/London:20180403T080000
DTEND;TZID=Europe/London:20180403T170000
DTSTAMP:20260421T105721
CREATED:20180403T123756Z
LAST-MODIFIED:20180403T123756Z
UID:3875-1522742400-1522774800@essexwi.org.uk
SUMMARY:Darts Final
DESCRIPTION:Ticket price also includes a Buffet Supper £7.00 each. \n\n\n \n\n\nPlease call 01245 382233 or email tickets@essexwi.org.uk to book!
URL:https://essexwi.org.uk/event/darts-final/
END:VEVENT
BEGIN:VEVENT
DTSTART;TZID=Europe/London:20180406T100000
DTEND;TZID=Europe/London:20180406T130000
DTSTAMP:20260421T105721
CREATED:20180103T143804Z
LAST-MODIFIED:20180319T151002Z
UID:3339-1523008800-1523019600@essexwi.org.uk
SUMMARY:Resolution Pros and Cons - CANCELLED
DESCRIPTION:THIS EVENT HAS NOW BEEN CANCELLED \nHavering Bowls Club\, Hornchurch
URL:https://essexwi.org.uk/event/resolution-pros-cons-2/
END:VEVENT
BEGIN:VEVENT
DTSTART;TZID=Europe/London:20180406T120000
DTEND;TZID=Europe/London:20180406T123000
DTSTAMP:20260421T105721
CREATED:20171122T142422Z
LAST-MODIFIED:20171123T133220Z
UID:3155-1523016000-1523017800@essexwi.org.uk
SUMMARY:Ladies who Lunch!
DESCRIPTION:Come and enjoy a delicious two course lunch\, followed by speaker Guy Smith – Vice Chairman of the National Farmers Union (NFU). \n\n \n\n\nMenu as follows:\n\n\n \n\n\nBreast of Chicken served in a mushroom\, basil and sweet cider cream on new potatoes with roast Mediterranean vegetables.\n\n\n \n\n\nVegetarian option – Roast Mediterranean vegetable tart.\n\n\n \n\n\nDessert: Bakes New York lemon and sultana cheesecake.\n\n\n \n\n\nPLEASE LET US KNOW IF YOU HAVE ANY DIETARY REQUIREMENTS.\n\n\n \n\n\nClosing date: Thursday 22 February 2018.\n\n\n \n\n\nTickets price for this event is £22.00 \n\n\n \n\n\n 
URL:https://essexwi.org.uk/event/ladies-who-lunch/
END:VEVENT
BEGIN:VEVENT
DTSTART;TZID=Europe/London:20180410T100000
DTEND;TZID=Europe/London:20180410T150000
DTSTAMP:20260421T105721
CREATED:20171122T131033Z
LAST-MODIFIED:20171123T122516Z
UID:3136-1523354400-1523372400@essexwi.org.uk
SUMMARY:Take One Stitch
DESCRIPTION:Using one stitch this workshop will give participants the opportunity to creatively design and stitch a series of sample vignettes under the experienced tutorship of Karen Odinga. This is your chance to explore the basic embroidery stitches in a brand new way that is unique to you. At the end of the day you will have a number of samples and ideas for mounting and displaying these. \n\n \n\n\nThe session is suitable for both beginners and experienced needlewomen. A list of requirements needed for the day will be sent out with your ticket\, but the emphasis for this session is to use up all those bits and bobs\, of threads\, materials\, beads and trimmings that “may come in useful one day”!\n\n\n \n\n\nKaren can be contacted for more information and /or a chat on her email kodinga23@gmail.com or through her website www.justsewinsprired.co.uk\n\n\n \n\n\nTea and coffee will be available but please remember to bring a packed lunch.\n\n\n \n\n\nTickets for this event are £21.00 each\n\n 
URL:https://essexwi.org.uk/event/take-one-stitch/
END:VEVENT
BEGIN:VEVENT
DTSTART;TZID=Europe/London:20180418T101500
DTEND;TZID=Europe/London:20180418T101500
DTSTAMP:20260421T105721
CREATED:20171128T133659Z
LAST-MODIFIED:20171130T140732Z
UID:3262-1524046500-1524046500@essexwi.org.uk
SUMMARY:St Osyth Walk
DESCRIPTION:10.15am for a 10.30am start.   \nWalk along the tidal river and farmland overlooking Brightlingsea and back to the picturesque village of St Osyth. Tea and cake served after the walk.  \nThe walk will be approximately 3 miles.  \nWith regret\, no dogs allowed. 
URL:https://essexwi.org.uk/event/st-osyth-walk/
END:VEVENT
BEGIN:VEVENT
DTSTART;TZID=Europe/London:20180420T103000
DTEND;TZID=Europe/London:20180420T150000
DTSTAMP:20260421T105721
CREATED:20171122T140924Z
LAST-MODIFIED:20171122T140924Z
UID:3149-1524220200-1524236400@essexwi.org.uk
SUMMARY:Shakespeare Workshop
DESCRIPTION:“Shakespeare – The Real Thing” – and enlightening\, thought-provoking and frequently hilarious look at the world of William Shakespeare and his audience. \n\n \n\n\nCome and join our Shakespeare Workshop!\n\n\n \n\n\nLed by Simon Bridge\, an actor with over 30 years experience working in theatres throughout the UK including The Globe Theatre. \n\n\n \n\n\nStarting at 10.30 am following by a light lunch – end time is unknown!!! But usually 3pm\n\n\n \n\n\nTicket Price £15.00\n\n\n \n\n\nClosing Date 23rd March 2018\n\n \nFinish time is unknown\, but usually 3pm
URL:https://essexwi.org.uk/event/shakespeare-workshop/
END:VEVENT
BEGIN:VEVENT
DTSTART;TZID=Europe/London:20180424T110000
DTEND;TZID=Europe/London:20180424T150000
DTSTAMP:20260421T105721
CREATED:20180328T141126Z
LAST-MODIFIED:20180408T144632Z
UID:3869-1524567600-1524582000@essexwi.org.uk
SUMMARY:All About ACWW
DESCRIPTION:  \n  \n  \n  \n  \n  \nFind out how ACWW spends your money to make a difference to women and communities around the world. Please bring a packed lunch\, tickets £7.00 each
URL:https://essexwi.org.uk/event/all-about-acww/
END:VEVENT
END:VCALENDAR