BEGIN:VCALENDAR
VERSION:2.0
PRODID:-//Essex WI - ECPv6.15.17.1//NONSGML v1.0//EN
CALSCALE:GREGORIAN
METHOD:PUBLISH
X-ORIGINAL-URL:https://essexwi.org.uk
X-WR-CALDESC:Events for Essex WI
REFRESH-INTERVAL;VALUE=DURATION:PT1H
X-Robots-Tag:noindex
X-PUBLISHED-TTL:PT1H
BEGIN:VTIMEZONE
TZID:Europe/London
BEGIN:DAYLIGHT
TZOFFSETFROM:+0000
TZOFFSETTO:+0100
TZNAME:BST
DTSTART:20170326T010000
END:DAYLIGHT
BEGIN:STANDARD
TZOFFSETFROM:+0100
TZOFFSETTO:+0000
TZNAME:GMT
DTSTART:20171029T010000
END:STANDARD
BEGIN:DAYLIGHT
TZOFFSETFROM:+0000
TZOFFSETTO:+0100
TZNAME:BST
DTSTART:20180325T010000
END:DAYLIGHT
BEGIN:STANDARD
TZOFFSETFROM:+0100
TZOFFSETTO:+0000
TZNAME:GMT
DTSTART:20181028T010000
END:STANDARD
BEGIN:DAYLIGHT
TZOFFSETFROM:+0000
TZOFFSETTO:+0100
TZNAME:BST
DTSTART:20190331T010000
END:DAYLIGHT
BEGIN:STANDARD
TZOFFSETFROM:+0100
TZOFFSETTO:+0000
TZNAME:GMT
DTSTART:20191027T010000
END:STANDARD
END:VTIMEZONE
BEGIN:VEVENT
DTSTART;TZID=Europe/London:20180601T100000
DTEND;TZID=Europe/London:20180601T150000
DTSTAMP:20260419T173841
CREATED:20180501T135045Z
LAST-MODIFIED:20180501T140446Z
UID:3984-1527847200-1527865200@essexwi.org.uk
SUMMARY:Beads and Pots Craft Day
DESCRIPTION:Spring brings new beginnings and this craft day for those who are keen to learn new skills and go home with two finished items. The morning session\, under guidance from Shirley Perkins\, will be decorating a pot with decoupage\, ideal for those Spring Bulbs! \nAfter lunch\, prepared by a member of Cookery and Creative Crafts Committee\, you will be taught how to make a beaded bracelet by Lesley Thomas. No previous experience is necessary for either of these crafts. All materials will be supplied on the day. \nTea and coffee will be available on arrival\, we hope you can join us. \nClosing date for this event is the 14th of May 2018Doors open at 9.45am for a 10am start. \nThe cost of this day will be £29.00 \nSOME OF YOU HAVE ALREADY AGREED TO TRANSFER TO THIS DATE FROM THE CANCELLED 2ND OF MARCH EVENT.
URL:https://essexwi.org.uk/event/beads-pots-craft-day-2/
END:VEVENT
BEGIN:VEVENT
DTSTART;TZID=Europe/London:20180605T100000
DTEND;TZID=Europe/London:20180605T130000
DTSTAMP:20260419T173841
CREATED:20180118T141800Z
LAST-MODIFIED:20180118T142919Z
UID:3369-1528192800-1528203600@essexwi.org.uk
SUMMARY:Learn to Embroider
DESCRIPTION:Have you ever wanted to learn how to embroider? \nThe Cookery and Creative Crafts committee have organised a series of four three hour workshops for members wishing to do so (June 5th and 19th\, July 3rd and 17th) \nThe tutor will be Pam Jermy who will lead the sessions\, numbers are restricted so that each attendee will be assured of individual attention. Pam writes: \n” The Four Season Sampler is an introduction to beginners embroidery. The stitches used are not difficult but are the foundation for many beautiful pieces of work. 2-3 stitches will be learnt each session ending in a piece of work you will be proud of. “ \nThe price for the four session is £48.00 and includes the kit that will be completed over the sessions. \nAll that you need to supply is : Dressmakers pins\, small scissors\, notebook\, pencil and rubber and a 20cm/8inch embroidery hoop. \nTea and Coffee will be served on arrival and the federation shop will be open\, doors open at 9.45am \nTickets can be applied for via the WI Centre on 01245 382233 or via email tickets@essexwi.org.uk \nClosing Date 8th of May 2018
URL:https://essexwi.org.uk/event/learn-to-embroider/
END:VEVENT
BEGIN:VEVENT
DTSTART;TZID=Europe/London:20180620T100000
DTEND;TZID=Europe/London:20180620T130000
DTSTAMP:20260419T173841
CREATED:20180327T131024Z
LAST-MODIFIED:20180327T131230Z
UID:3867-1529488800-1529499600@essexwi.org.uk
SUMMARY:Wickham St Pauls Walk
DESCRIPTION:The walk will commence from the Village Hall in Wickham St Pauls at 10.15 for a 10.30 start. (FINISH TIME IS WHENEVER WE FINISH!!)\n\n\n \n\n\nWe will go down dale and up hill over local farmland and then make our way down to Bulmer Brock and Tile Co. Here the walk continues through the yard and past two kilns\, where we will be met by owner Peter Minter. He will give us a 10 minute talk about what is going on around us. We may get a chance to see the clay site and go inside and unfired kiln. Well walk onto Wiggery Wood \, taking a circular route over the farmland back to Wickham St Pauls.\n\n\n \n\n\nRefreshments will be available in the Village Hall on our return\, where you can enjoy your own lunch. Snacks and lunches may be obtained nearby. the victory Inn is nearby with their pub garden looking over the village green\, plus Spencer Fruit Farm and Coffee Shop also serves delicious meals prepared with local produce.\n\n\n \n\n\nWIckham St Pauls WI will also be running games of “New Age Kurling” all afternoon in the Village Hall from 1pm. everyone is invited too watch and play this challenging and fun sport. If you would like WSP WI to bring “New Age Kurling” to your WI\, you can book them there and then!\n\n\n \n\n\nPrice is £3.00 including Tea and Biccies.\n\n\n \n\n\nClosing date is the 23rd of May.\n\n \n 
URL:https://essexwi.org.uk/event/wickham-st-pauls-walk/
END:VEVENT
BEGIN:VEVENT
DTSTART;TZID=Europe/London:20180620T101500
DTEND;TZID=Europe/London:20180620T101500
DTSTAMP:20260419T173841
CREATED:20171128T133259Z
LAST-MODIFIED:20171130T141315Z
UID:3255-1529489700-1529489700@essexwi.org.uk
SUMMARY:Wickham St Paul Walk
DESCRIPTION:10.15am for a 10.30am start.   \nWalk through gentle rolling countryside from Wickham St Paul\, with its beautiful duck pond. Past one of the leaders in restoration brickwork “Bulmer Brick Yard”. We will have a brief talk with the owner and look at the working kilns.  \nWith regret\, no dogs please. 
URL:https://essexwi.org.uk/event/wickham-st-paul-walk/
END:VEVENT
BEGIN:VEVENT
DTSTART;TZID=Europe/London:20180625T140000
DTEND;TZID=Europe/London:20180625T170000
DTSTAMP:20260419T173841
CREATED:20180510T130340Z
LAST-MODIFIED:20180510T130340Z
UID:3996-1529935200-1529946000@essexwi.org.uk
SUMMARY:Presidents and Secretaries Workshops
DESCRIPTION:A wonderful opportunity to lean more about these roles within the WI. You may have just taken on the role or may be thinking about it\, please come along an learn more!\n\n\n \n\n\n \n\n\nTickets are £5.00 per person.
URL:https://essexwi.org.uk/event/presidents-secretaries-workshops/
END:VEVENT
BEGIN:VEVENT
DTSTART;TZID=Europe/London:20180627T193000
DTEND;TZID=Europe/London:20180627T220000
DTSTAMP:20260419T173841
CREATED:20180523T124328Z
LAST-MODIFIED:20180523T124328Z
UID:4018-1530127800-1530136800@essexwi.org.uk
SUMMARY:INTER WI QUIZ FINAL
DESCRIPTION:
URL:https://essexwi.org.uk/event/inter-wi-quiz-final/
END:VEVENT
END:VCALENDAR