BEGIN:VCALENDAR
VERSION:2.0
PRODID:-//Essex WI - ECPv6.15.17.1//NONSGML v1.0//EN
CALSCALE:GREGORIAN
METHOD:PUBLISH
X-WR-CALNAME:Essex WI
X-ORIGINAL-URL:https://essexwi.org.uk
X-WR-CALDESC:Events for Essex WI
REFRESH-INTERVAL;VALUE=DURATION:PT1H
X-Robots-Tag:noindex
X-PUBLISHED-TTL:PT1H
BEGIN:VTIMEZONE
TZID:Europe/London
BEGIN:DAYLIGHT
TZOFFSETFROM:+0000
TZOFFSETTO:+0100
TZNAME:BST
DTSTART:20170326T010000
END:DAYLIGHT
BEGIN:STANDARD
TZOFFSETFROM:+0100
TZOFFSETTO:+0000
TZNAME:GMT
DTSTART:20171029T010000
END:STANDARD
BEGIN:DAYLIGHT
TZOFFSETFROM:+0000
TZOFFSETTO:+0100
TZNAME:BST
DTSTART:20180325T010000
END:DAYLIGHT
BEGIN:STANDARD
TZOFFSETFROM:+0100
TZOFFSETTO:+0000
TZNAME:GMT
DTSTART:20181028T010000
END:STANDARD
BEGIN:DAYLIGHT
TZOFFSETFROM:+0000
TZOFFSETTO:+0100
TZNAME:BST
DTSTART:20190331T010000
END:DAYLIGHT
BEGIN:STANDARD
TZOFFSETFROM:+0100
TZOFFSETTO:+0000
TZNAME:GMT
DTSTART:20191027T010000
END:STANDARD
END:VTIMEZONE
BEGIN:VEVENT
DTSTART;TZID=Europe/London:20180711T101500
DTEND;TZID=Europe/London:20180711T101500
DTSTAMP:20260419T153903
CREATED:20171128T132642Z
LAST-MODIFIED:20180222T140635Z
UID:3250-1531304100-1531304100@essexwi.org.uk
SUMMARY:Cranham Walk (By Oglethorpe)
DESCRIPTION:Get Out Those Walking Boots Join us for an exhilarating walk around Cranham Marsh Nature Reserve\, with its ancient wet woodland\, wet meadow and marsh. Walk in the Thames Chase Community Forest with its visitor centre and grade 2 listed barn. This walk is kindly being organised by Oglethorpe WI.Wednesday 11 July 2018Meet at 10.15 -10.30 start.The walk is approximately 3 miles and will start at Thames Chase Visitor Centre\, Pike Lane\, Upminster\, RM14 3NS. (Pike Lane is off St Marys Lane just before the Thatched House if coming from A127.The cost of the walk is £2.50 for Federation administration.Car parking is a fixed daily donation to Thames Chase Trust payable at the ticket machine (£2 at present) The Visitor Centre is open 10.00am – 5pm and refreshments and light lunches are available \nWith regret no dogs please.   \n  \n 
URL:https://essexwi.org.uk/event/radwinter-walk/
END:VEVENT
BEGIN:VEVENT
DTSTART;TZID=Europe/London:20180712T100000
DTEND;TZID=Europe/London:20180712T130000
DTSTAMP:20260419T153903
CREATED:20180510T130430Z
LAST-MODIFIED:20180510T130430Z
UID:3998-1531389600-1531400400@essexwi.org.uk
SUMMARY:Presidents and Secretaries Workshops
DESCRIPTION:A wonderful opportunity to lean more about these roles within the WI. You may have just taken on the role or may be thinking about it\, please come along an learn more!\n\n\n \n\n\n \n\n\nTickets are £5.00 per person.
URL:https://essexwi.org.uk/event/presidents-secretaries-workshops-2/
END:VEVENT
BEGIN:VEVENT
DTSTART;TZID=Europe/London:20180725T100000
DTEND;TZID=Europe/London:20180725T130000
DTSTAMP:20260419T153903
CREATED:20180413T160314Z
LAST-MODIFIED:20180416T114316Z
UID:3948-1532512800-1532523600@essexwi.org.uk
SUMMARY:Public Affairs Workshop
DESCRIPTION:Following on from the NFWI Annual Meeting\, this workshop will look at what our campaigning and Public Affairs focus will be for 2018-19 and how we can plan and implement this. \nSpeaker details TBC post the NFWI AGM meeting in June as it is dependant partly on what is voted for at that meeting. \nFEWI Centre\, Terling \n10am – 1pm\, £5 – email tickets@essexwi.org.uk to book your place \n 
URL:https://essexwi.org.uk/event/public-affairs-workshop/
END:VEVENT
END:VCALENDAR