BEGIN:VCALENDAR
VERSION:2.0
PRODID:-//Essex WI - ECPv6.15.17.1//NONSGML v1.0//EN
CALSCALE:GREGORIAN
METHOD:PUBLISH
X-ORIGINAL-URL:https://essexwi.org.uk
X-WR-CALDESC:Events for Essex WI
REFRESH-INTERVAL;VALUE=DURATION:PT1H
X-Robots-Tag:noindex
X-PUBLISHED-TTL:PT1H
BEGIN:VTIMEZONE
TZID:Europe/London
BEGIN:DAYLIGHT
TZOFFSETFROM:+0000
TZOFFSETTO:+0100
TZNAME:BST
DTSTART:20240331T010000
END:DAYLIGHT
BEGIN:STANDARD
TZOFFSETFROM:+0100
TZOFFSETTO:+0000
TZNAME:GMT
DTSTART:20241027T010000
END:STANDARD
BEGIN:DAYLIGHT
TZOFFSETFROM:+0000
TZOFFSETTO:+0100
TZNAME:BST
DTSTART:20250330T010000
END:DAYLIGHT
BEGIN:STANDARD
TZOFFSETFROM:+0100
TZOFFSETTO:+0000
TZNAME:GMT
DTSTART:20251026T010000
END:STANDARD
BEGIN:DAYLIGHT
TZOFFSETFROM:+0000
TZOFFSETTO:+0100
TZNAME:BST
DTSTART:20260329T010000
END:DAYLIGHT
BEGIN:STANDARD
TZOFFSETFROM:+0100
TZOFFSETTO:+0000
TZNAME:GMT
DTSTART:20261025T010000
END:STANDARD
END:VTIMEZONE
BEGIN:VEVENT
DTSTART;TZID=Europe/London:20250208T100000
DTEND;TZID=Europe/London:20250208T160000
DTSTAMP:20260422T130832
CREATED:20241008T104644Z
LAST-MODIFIED:20241008T104644Z
UID:9482-1739008800-1739030400@essexwi.org.uk
SUMMARY:Knead the Dough!
DESCRIPTION:Non Members £47 \n \nOn this bread making course you will learn\, and take home\, white and brown bread\, bun dough\, naan breads\, pittas and flatbreads.  You will be working with dried and fresh yeast.  Your tutor Hilary Hicks\, who has been teaching cookery for 30 years\, has a passion for baking and loves passing on her knowledge and experience to others.  A list of ingredients to bring with you will be sent to you nearer the time.   \nPlease bring your apron and a packed lunch.  There is plenty of parking at the venue. \nNon members welcome.
URL:https://essexwi.org.uk/event/knead-the-dough/
LOCATION:Chelmsford College\, Princes Road Campus\, Essex\, CM2 9DE\, United Kingdom
ORGANIZER;CN="FEWI":MAILTO:tickets@essexwi.org.uk
END:VEVENT
BEGIN:VEVENT
DTSTART;TZID=Europe/London:20250217T100000
DTEND;TZID=Europe/London:20250217T150000
DTSTAMP:20260422T130832
CREATED:20240912T123040Z
LAST-MODIFIED:20250123T083404Z
UID:9467-1739786400-1739804400@essexwi.org.uk
SUMMARY:Canal Art with Marie Charles (Rosa Lea's Paint Studio)
DESCRIPTION:Non members £39 \n \nAnother in our Heritage Craft series\, this is the first time we are offering this technique.  The workshop begins with the history of canal art before practicing strokes that make up the design and finish with painting a tea pot.  Worksheets and all materials and equipment included.  Participants need only to be able to paint a circle. \nNon members welcome. \nPlease bring a packed lunch and a mug for tea/coffee.
URL:https://essexwi.org.uk/event/canal-art-with-marie-charles-rosa-leas-paint-studio/
LOCATION:WI Centre\, Whitelands\, Terling Road\, Hatfield Peverel\, Essex\, CM3 2AG\, United Kingdom
ORGANIZER;CN="FEWI":MAILTO:tickets@essexwi.org.uk
END:VEVENT
BEGIN:VEVENT
DTSTART;TZID=Europe/London:20250218T110000
DTEND;TZID=Europe/London:20250218T140000
DTSTAMP:20260422T130832
CREATED:20241217T144037Z
LAST-MODIFIED:20241217T144037Z
UID:9825-1739876400-1739887200@essexwi.org.uk
SUMMARY:Snowdrops at Hedingham Castle
DESCRIPTION:Non members £22 \n \nA wonderful opportunity to see the famous Hedingham Castle snowdrops and experience a private tour of the Castle itself with one their historians.  Ticket price includes tea/coffee and a cake in the Keep Tea Room. \nAccess – Some parts of the grounds present varying degrees of difficulty for those with mobility issues\, but there are easy\, accessible walks for all. Access to the Castle involves steep stairs and no lift.  Guests should dress appropriately for the weather on the day. \nParking – free parking available \nDogs – Dogs are very welcome\, except on Event days. Dogs must be kept on a lead at all times and are not permitted in the Castle itself. \nTea Rooms – The tearooms are open for indoor seating as well as takeaway service\, with a menu of light refreshments. Please note\, they only accept card payments in the tearooms.
URL:https://essexwi.org.uk/event/snowdrops-at-hedingham-castle/
LOCATION:Castle Hedingham\, Bayley Street\, Castle Hedingham\, Essex\, CO9 3DJ\, United Kingdom
ORGANIZER;CN="FEWI":MAILTO:tickets@essexwi.org.uk
END:VEVENT
BEGIN:VEVENT
DTSTART;TZID=Europe/London:20250221T100000
DTEND;TZID=Europe/London:20250221T130000
DTSTAMP:20260422T130832
CREATED:20241105T095456Z
LAST-MODIFIED:20241105T105345Z
UID:9709-1740132000-1740142800@essexwi.org.uk
SUMMARY:NEW SPEAKER AUDITIONS
DESCRIPTION:We are delighted to welcome members to WI Centre for the opportunity to help choose speakers for our Panel of Speakers Book.  You will experience taster presentations from up to 5 new speakers.  Tea and coffee will be available but please bring your own mug. \nThis is a members only meeting.
URL:https://essexwi.org.uk/event/new-speaker-auditions-duplicate-1-5/
LOCATION:WI Centre\, Whitelands\, Terling Road\, Hatfield Peverel\, Essex\, CM3 2AG\, United Kingdom
ORGANIZER;CN="FEWI":MAILTO:tickets@essexwi.org.uk
END:VEVENT
END:VCALENDAR