BEGIN:VCALENDAR
VERSION:2.0
PRODID:-//Essex WI - ECPv6.15.17.1//NONSGML v1.0//EN
CALSCALE:GREGORIAN
METHOD:PUBLISH
X-WR-CALNAME:Essex WI
X-ORIGINAL-URL:https://essexwi.org.uk
X-WR-CALDESC:Events for Essex WI
REFRESH-INTERVAL;VALUE=DURATION:PT1H
X-Robots-Tag:noindex
X-PUBLISHED-TTL:PT1H
BEGIN:VTIMEZONE
TZID:Europe/London
BEGIN:DAYLIGHT
TZOFFSETFROM:+0000
TZOFFSETTO:+0100
TZNAME:BST
DTSTART:20250330T010000
END:DAYLIGHT
BEGIN:STANDARD
TZOFFSETFROM:+0100
TZOFFSETTO:+0000
TZNAME:GMT
DTSTART:20251026T010000
END:STANDARD
BEGIN:DAYLIGHT
TZOFFSETFROM:+0000
TZOFFSETTO:+0100
TZNAME:BST
DTSTART:20260329T010000
END:DAYLIGHT
BEGIN:STANDARD
TZOFFSETFROM:+0100
TZOFFSETTO:+0000
TZNAME:GMT
DTSTART:20261025T010000
END:STANDARD
BEGIN:DAYLIGHT
TZOFFSETFROM:+0000
TZOFFSETTO:+0100
TZNAME:BST
DTSTART:20270328T010000
END:DAYLIGHT
BEGIN:STANDARD
TZOFFSETFROM:+0100
TZOFFSETTO:+0000
TZNAME:GMT
DTSTART:20271031T010000
END:STANDARD
END:VTIMEZONE
BEGIN:VEVENT
DTSTART;TZID=Europe/London:20260427T190000
DTEND;TZID=Europe/London:20260427T210000
DTSTAMP:20260422T144137
CREATED:20260310T121931Z
LAST-MODIFIED:20260319T090803Z
UID:11180-1777316400-1777323600@essexwi.org.uk
SUMMARY:Resolutions Pros & Cons Discussion
DESCRIPTION:Would you like more information about the chosen resolutions?\nWould you like your WI to make an informed decision when voting?\nCome and discuss the pros and cons of this year’s selected resolutions: \n\nAccessible public toilet facilities to promote dignity\, health\, and social inclusion\n\nThis resolution is a call for accessible\, clean\, free public toilets which are fundamental to inclusion and wellbeing\, especially for women\, older people\, disabled individuals\, parents and carers. It invites WI branches to take meaningful action—through advocacy\, partnership\, and community engagement—to support local authorities and civil society in reversing the closure trend and ensuring dignity for all. \n\nAction on women’s homelessness \n\nThe NFWI echoes the calls of homelessness charities and urges all levels of government to take action to reduce women’s homelessness\, reduce the number of women at risk of homelessness\, and improve the quality of temporary accommodation. We call on WI members to support homelessness organisations in their communities and campaign to ensure that all women have a place they can safely call home.\nIn order to take into consideration WI and federation capacity\, it is proposed that should both resolutions be passed at the Annual Meeting\, the following approach would be taken: \n\nA local-only campaign is developed for Accessible Public Toilet Facilities should this resolution pass. This is in line with the focus of the resolution. NFWI support would include providing outline campaign guidance and signposting to relevant organisations. This would be an opportunity for WIs and federations to focus on local campaigning on this topic. Members have expressed to the NFWI a desire for more practical local campaigns\, and this resolution lends itself well to this approach.\nA nationally focused campaign is developed for Action on Women’s Homelessness should this resolution pass. This would include educational activity on the topic\, exploring national partnerships and much more limited local action.\nTaking a phased approach to implementing campaigns on these resolutions should they both pass at the 2026 AM.\n\nThis event is for WI Members only. \nNOTE: NFWI will also be hosting a webinar on Friday 24 April 2026 at 12noon. Members who wish to join can register their interest via MyWI https://www.thewi.org.uk/campaigns/resolutions/join-our-resolution-webinar-in-april
URL:https://essexwi.org.uk/event/resolutions-pros-cons-discussion-duplicate-1-2/
LOCATION:Zoom
ORGANIZER;CN="FEWI":MAILTO:tickets@essexwi.org.uk
END:VEVENT
BEGIN:VEVENT
DTSTART;TZID=Europe/London:20260428T110000
DTEND;TZID=Europe/London:20260428T153000
DTSTAMP:20260422T144137
CREATED:20251126T123417Z
LAST-MODIFIED:20251126T125050Z
UID:10800-1777374000-1777390200@essexwi.org.uk
SUMMARY:Tours of Freemasons' Hall and Barts North Wing - A&L
DESCRIPTION:Non members £17 \n \nTwo tours in one day!  A great opportunity to have a guided tour of the magnificent art deco Grand Lodge on Great Queen Street including the Museum of Freemasonry and the Hall itself\, followed by a tour of Barts North Wing’s Great Hall and Hogarth Stair which has been restored and is now open to the public. \nYou will make your own way to Freemasons’ Hall by 11am for an 11.15 guided tour.\nYou will then have time for a bite to eat\, either in the Freemasons’ Hall café or find a nearby eatery of your choice (NB lunch not included in ticket price).\nYou will make your way (either a 25 minute walk or 15 minute tube journey plus a short walk) to Barts North Wing to meet by 2pm for a 2.15 guided tour.\nFull directions will be provided in your confirmation. \nNon members welcome.
URL:https://essexwi.org.uk/event/tours-of-freemasons-hall-and-barts-north-wing-al/
LOCATION:Freemasons Hall\, 60 Great Queen Street\, London\, ec1a 7be\, United Kingdom
ORGANIZER;CN="FEWI":MAILTO:tickets@essexwi.org.uk
END:VEVENT
END:VCALENDAR